BEGIN:VCALENDAR
VERSION:2.0
PRODID:-//Squarespace Inc/Squarespace 6//v6//EN
BEGIN:VEVENT
UID:581be10d20099e1f4edff353@squarespace.com
DTSTAMP:20190307T032227Z
DTSTART:20161126T143000Z
DTEND:20161126T214500Z
SUMMARY:Spring Mindful Yoga Day
GEO:-36.719652;144.194395
LOCATION:Atisha Centre\, 25 Sandhurst Town Road\, Myers Flat\, VIC\, 3556\, 
 Australia
END:VEVENT
END:VCALENDAR
