BEGIN:VCALENDAR
VERSION:2.0
PRODID:-//Squarespace Inc/Squarespace 6//v6//EN
BEGIN:VEVENT
UID:581be3d6e4fcb5a09255af06@squarespace.com
DTSTAMP:20171116T063805Z
DTSTART:20161127T143000Z
DTEND:20161127T213000Z
SUMMARY:Yoga For Your Mood
GEO:-36.759926;144.276486
LOCATION:YogaHara\, 11 Forest Street\, Bendigo\, Australia
END:VEVENT
END:VCALENDAR
