BEGIN:VCALENDAR
VERSION:2.0
PRODID:-//Squarespace Inc/Squarespace 6//v6//EN
BEGIN:VEVENT
UID:581c09fab8a79b7a8f5a4d67@squarespace.com
DTSTAMP:20161104T105505Z
DTSTART:20161105T230000Z
DTEND:20161106T003000Z
SUMMARY:Everyday Mindfulness
GEO:-36.759926;144.276486
LOCATION:YogaHara\, First floor\, 11 Forest Street\, Bendigo
END:VEVENT
END:VCALENDAR
