BEGIN:VCALENDAR
VERSION:2.0
PRODID:-//Squarespace Inc/Squarespace 6//v6//EN
BEGIN:VEVENT
UID:584650c515d5db6feba35a40@squarespace.com
DTSTAMP:20161215T052558Z
DTSTART:20161214T190000Z
DTEND:20170120T070000Z
SUMMARY:YogaHara Live Summer Holiday Program
END:VEVENT
END:VCALENDAR
