BEGIN:VCALENDAR
VERSION:2.0
PRODID:-//Squarespace Inc/Squarespace 6//v6//EN
BEGIN:VEVENT
UID:584134996b8f5bdfd9e566b1@squarespace.com
DTSTAMP:20161205T025236Z
DTSTART:20161213T073000Z
DTEND:20161213T093000Z
SUMMARY:Annual Christmas Restorative Evening
GEO:-36.759926;144.276486
LOCATION:YogaHara\, First Floor\, 11 Forest Street\, Bendigo\, Australia
END:VEVENT
END:VCALENDAR
