BEGIN:VCALENDAR
VERSION:2.0
PRODID:-//Squarespace Inc/Squarespace 6//v6//EN
BEGIN:VEVENT
UID:5844b3212994cab7bdbadb0e@squarespace.com
DTSTAMP:20191115T074559Z
DTSTART:20161221T070000Z
DTEND:20161221T083000Z
SUMMARY:Mindfulness for Christmas
GEO:-36.759926;144.276486
LOCATION:YogaHara\, First Floor\, 11 Forest Street\, Bendigo\, Australia
END:VEVENT
END:VCALENDAR
