BEGIN:VCALENDAR
VERSION:2.0
PRODID:-//Squarespace Inc/Squarespace 6//v6//EN
BEGIN:VEVENT
UID:59ae28c7cf81e0f6ca8b85c6@squarespace.com
DTSTAMP:20171022T093352Z
DTSTART:20171009T081500Z
DTEND:20171009T094500Z
SUMMARY:Introductory Yoga - 5 Week Course
END:VEVENT
END:VCALENDAR
