BEGIN:VCALENDAR
VERSION:2.0
PRODID:-//Squarespace Inc/Squarespace 6//v6//EN
BEGIN:VEVENT
UID:5975d3a0e3df28d888a3ec1f@squarespace.com
DTSTAMP:20170921T004433Z
DTSTART:20171103T010000Z
DTEND:20171105T010000Z
SUMMARY:Hepburn Springs Weekend Yoga Retreat
GEO:-37.306994;144.142303
LOCATION:Continental House\, 9 Lone Pine Avenue\, Hepburn Springs\, VIC\, 3
 461\, Australia
END:VEVENT
END:VCALENDAR
