BEGIN:VCALENDAR
VERSION:2.0
PRODID:-//Squarespace Inc/Squarespace 6//v6//EN
BEGIN:VEVENT
UID:59ec66134c0dbfd368972813@squarespace.com
DTSTAMP:20171120T015802Z
DTSTART:20171113T081500Z
DTEND:20171113T094500Z
SUMMARY:Introductory Yoga - 5 Week Course
END:VEVENT
END:VCALENDAR
