BEGIN:VCALENDAR
VERSION:2.0
PRODID:-//Squarespace Inc/Squarespace 6//v6//EN
BEGIN:VEVENT
UID:59d98f04017db2e1bf0b8213@squarespace.com
DTSTAMP:20180307T092021Z
DTSTART:20171202T020000Z
DTEND:20171202T040000Z
SUMMARY:Drum Up Wellness for Women with Peta Minter
END:VEVENT
END:VCALENDAR
