BEGIN:VCALENDAR
VERSION:2.0
PRODID:-//Squarespace Inc/Squarespace 6//v6//EN
BEGIN:VEVENT
UID:59d991cc03596eb59545f13f@squarespace.com
DTSTAMP:20180307T091002Z
DTSTART:20171202T053000Z
DTEND:20171202T070000Z
SUMMARY:Sound Bath with Peta Minter
END:VEVENT
END:VCALENDAR
