BEGIN:VCALENDAR
VERSION:2.0
PRODID:-//Squarespace Inc/Squarespace 6//v6//EN
BEGIN:VEVENT
UID:58873ae51e5b6ca1ffd84135@squarespace.com
DTSTAMP:20170420T021814Z
DTSTART:20170424T091500Z
DTEND:20170522T104500Z
SUMMARY:Introductory Yoga - 5 Week Course
END:VEVENT
END:VCALENDAR
