BEGIN:VCALENDAR
VERSION:2.0
PRODID:-//Squarespace Inc/Squarespace 6//v6//EN
BEGIN:VEVENT
UID:58853f2f197aea49bd547d8e@squarespace.com
DTSTAMP:20170124T115133Z
DTSTART:20170203T230000Z
DTEND:20170204T003000Z
SUMMARY:Everyday Mindfulness
END:VEVENT
END:VCALENDAR
