BEGIN:VCALENDAR
VERSION:2.0
PRODID:-//Squarespace Inc/Squarespace 6//v6//EN
BEGIN:VEVENT
UID:581d7659ebbd1a19863abd97@squarespace.com
DTSTAMP:20170724T110152Z
DTSTART:20170324T010000Z
DTEND:20170326T020000Z
SUMMARY:Hepburn Springs Weekend Yoga Retreat
GEO:-37.306994;144.142303
LOCATION:Continental House\, 9 Lone Pine Avenue\, Hepburn Springs\, VIC\, 3
 461\, Australia
END:VEVENT
END:VCALENDAR
