BEGIN:VCALENDAR
VERSION:2.0
PRODID:-//Squarespace Inc/Squarespace 6//v6//EN
BEGIN:VEVENT
UID:58ba0221bf629aed77b169e1@squarespace.com
DTSTAMP:20170304T001821Z
DTSTART:20170331T220000Z
DTEND:20170402T080000Z
SUMMARY:Bendigo Yoga Festival
GEO:-36.754952;144.273847
LOCATION:View Street\, Bendigo\, VIC\, 3550\, Australia
END:VEVENT
END:VCALENDAR
