BEGIN:VCALENDAR
VERSION:2.0
PRODID:-//Squarespace Inc/Squarespace 6//v6//EN
BEGIN:VEVENT
UID:597482bd9de4bb2cc35c875f@squarespace.com
DTSTAMP:20170903T044556Z
DTSTART:20170821T091500Z
DTEND:20170821T104500Z
SUMMARY:Introductory Yoga - 5 Week Course with Gina Macauley
END:VEVENT
END:VCALENDAR
