BEGIN:VCALENDAR
VERSION:2.0
PRODID:-//Squarespace Inc/Squarespace 6//v6//EN
BEGIN:VEVENT
UID:5950dc3eebbd1a615c9e1696@squarespace.com
DTSTAMP:20170723T110429Z
DTSTART:20170717T091500Z
DTEND:20170717T104500Z
SUMMARY:Introductory Yoga - 5 Week Course
END:VEVENT
END:VCALENDAR
