BEGIN:VCALENDAR
VERSION:2.0
PRODID:-//Squarespace Inc/Squarespace 6//v6//EN
BEGIN:VEVENT
UID:591404d3b3db2bf6a04caf71@squarespace.com
DTSTAMP:20170626T101034Z
DTSTART:20170529T091500Z
DTEND:20170625T104500Z
SUMMARY:Introductory Yoga - 5 Week Course
END:VEVENT
END:VCALENDAR
