BEGIN:VCALENDAR
VERSION:2.0
PRODID:-//Squarespace Inc/Squarespace 6//v6//EN
BEGIN:VEVENT
UID:59acdbfbe9bfdff520545ebf@squarespace.com
DTSTAMP:20170921T004544Z
DTSTART:20171003T070000Z
DTEND:20171003T083000Z
SUMMARY:Everyday Mindfulness
GEO:-36.762141;144.280761
LOCATION:YogaHara\, 1A King Street\, Bendigo\, VIC\, 3550\, Australia
END:VEVENT
END:VCALENDAR
