BEGIN:VCALENDAR
VERSION:2.0
PRODID:-//Squarespace Inc/Squarespace 6//v6//EN
BEGIN:VEVENT
UID:592bbe0829687f03fe70053e@squarespace.com
DTSTAMP:20170904T045211Z
DTSTART:20170610T030000Z
DTEND:20170610T043000Z
SUMMARY:Everyday Mindfulness
END:VEVENT
END:VCALENDAR
