BEGIN:VCALENDAR
VERSION:2.0
PRODID:-//Squarespace Inc/Squarespace 6//v6//EN
BEGIN:VEVENT
UID:5974885720099e96a392a1e9@squarespace.com
DTSTAMP:20170921T004559Z
DTSTART:20170930T030000Z
DTEND:20170930T060000Z
SUMMARY:Adrenal Healing Workshop
GEO:-36.762141;144.280761
LOCATION:YogaHara\, 1A King Street\, Bendigo
END:VEVENT
END:VCALENDAR
