BEGIN:VCALENDAR
VERSION:2.0
PRODID:-//Squarespace Inc/Squarespace 6//v6//EN
BEGIN:VEVENT
UID:5950d94d03596e991b21e2e7@squarespace.com
DTSTAMP:20170723T111749Z
DTSTART:20170708T043000Z
DTEND:20170708T070000Z
SUMMARY:Adrenal Healing Workshop
GEO:-36.762141;144.280761
LOCATION:YogaHara\, 1A King Street\, Bendigo
END:VEVENT
END:VCALENDAR
