BEGIN:VCALENDAR
VERSION:2.0
PRODID:-//Squarespace Inc/Squarespace 6//v6//EN
BEGIN:VEVENT
UID:581be47946c3c491896eb9a4@squarespace.com
DTSTAMP:20190821T023636Z
DTSTART:20170806T070000Z
DTEND:20170811T230000Z
SUMMARY:Mission Beach 'Sanctuary' Yoga Retreat
GEO:-17.822499;146.098535
LOCATION:Mission Beach Sanctuary\, 72 Holt Rd\, Garners Beach QLD 4852\, Au
 stralia
END:VEVENT
END:VCALENDAR
