BEGIN:VCALENDAR
VERSION:2.0
PRODID:-//Squarespace Inc/Squarespace 6//v6//EN
BEGIN:VEVENT
UID:599e7a4f3e00bee32c96d1ec@squarespace.com
DTSTAMP:20171204T010124Z
DTSTART:20170924T200000Z
DTEND:20170927T211500Z
SUMMARY:Early Morning Intensive with Gina Macauley
GEO:-36.762141;144.280761
LOCATION:YogaHara\, 1A King Street\, Bendigo\, VIC\, 3550\, Australia
END:VEVENT
END:VCALENDAR
