BEGIN:VCALENDAR
VERSION:2.0
PRODID:-//Squarespace Inc/Squarespace 6//v6//EN
BEGIN:VEVENT
UID:5a249e648165f506770b8624@squarespace.com
DTSTAMP:20181119T012838Z
DTSTART:20180107T190000Z
DTEND:20180111T201500Z
SUMMARY:Living Your Sankalpa Early Morning Intensive
GEO:-36.762141;144.280761
LOCATION:YogaHara\, 1A King Street\, Bendigo\, VIC\, 3550\, Australia
END:VEVENT
END:VCALENDAR
