BEGIN:VCALENDAR
VERSION:2.0
PRODID:-//Squarespace Inc/Squarespace 6//v6//EN
BEGIN:VEVENT
UID:5a572d8fec212d24a8b33490@squarespace.com
DTSTAMP:20180213T090247Z
DTSTART:20180202T223000Z
DTEND:20180203T000000Z
SUMMARY:Introductory Yoga - 5 Week Course Saturday Mornings
END:VEVENT
END:VCALENDAR
