BEGIN:VCALENDAR
VERSION:2.0
PRODID:-//Squarespace Inc/Squarespace 6//v6//EN
BEGIN:VEVENT
UID:5a554833f9619a4ea0b7d571@squarespace.com
DTSTAMP:20180111T094447Z
DTSTART:20180202T230000Z
DTEND:20180203T003000Z
SUMMARY:Everyday Mindfulness
END:VEVENT
END:VCALENDAR
