BEGIN:VCALENDAR
VERSION:2.0
PRODID:-//Squarespace Inc/Squarespace 6//v6//EN
BEGIN:VEVENT
UID:5a211f1ec8302566a3bb3f2d@squarespace.com
DTSTAMP:20180306T034017Z
DTSTART:20180226T081500Z
DTEND:20180305T094500Z
SUMMARY:Introductory Yoga - 5 Week Course Monday Evenings
END:VEVENT
END:VCALENDAR
