BEGIN:VCALENDAR
VERSION:2.0
PRODID:-//Squarespace Inc/Squarespace 6//v6//EN
BEGIN:VEVENT
UID:5a0d31709140b751033bf423@squarespace.com
DTSTAMP:20180319T000713Z
DTSTART:20180316T223000Z
DTEND:20180317T053000Z
SUMMARY:Yoga For Your Mood
GEO:-36.762141;144.280761
LOCATION:YogaHara\, 1A King Street\, Bendigo\, VIC\, 3550\, Australia
END:VEVENT
END:VCALENDAR
