BEGIN:VCALENDAR
VERSION:2.0
PRODID:-//Squarespace Inc/Squarespace 6//v6//EN
BEGIN:VEVENT
UID:5ad7f847f950b7232ce7030e@squarespace.com
DTSTAMP:20180604T050110Z
DTSTART:20180521T091500Z
DTEND:20180521T104500Z
SUMMARY:Introductory Yoga - 5 Week Course Monday Evenings with Peta
END:VEVENT
END:VCALENDAR
