BEGIN:VCALENDAR
VERSION:2.0
PRODID:-//Squarespace Inc/Squarespace 6//v6//EN
BEGIN:VEVENT
UID:5a9bb50d085229f6ca0bb1c9@squarespace.com
DTSTAMP:20180419T020224Z
DTSTART:20180416T091500Z
DTEND:20180416T104500Z
SUMMARY:Introductory Yoga - 5 Week Course Monday Evenings
END:VEVENT
END:VCALENDAR
