BEGIN:VCALENDAR
VERSION:2.0
PRODID:-//Squarespace Inc/Squarespace 6//v6//EN
BEGIN:VEVENT
UID:5a9faed571c10bf6d37fd58b@squarespace.com
DTSTAMP:20180420T064145Z
DTSTART:20180421T030000Z
DTEND:20180421T050000Z
SUMMARY:Drum Up Wellness with Peta Minter
END:VEVENT
END:VCALENDAR
