BEGIN:VCALENDAR
VERSION:2.0
PRODID:-//Squarespace Inc/Squarespace 6//v6//EN
BEGIN:VEVENT
UID:5a9fac6a085229fcc9b348ac@squarespace.com
DTSTAMP:20180410T031856Z
DTSTART:20180421T063000Z
DTEND:20180421T080000Z
SUMMARY:Sound Bath with Peta Minter
END:VEVENT
END:VCALENDAR
