BEGIN:VCALENDAR
VERSION:2.0
PRODID:-//Squarespace Inc/Squarespace 6//v6//EN
BEGIN:VEVENT
UID:5ad59db588251b7278aa4694@squarespace.com
DTSTAMP:20180917T015404Z
DTSTART:20180512T030000Z
DTEND:20180512T043000Z
SUMMARY:Everyday Mindfulness
END:VEVENT
END:VCALENDAR
