BEGIN:VCALENDAR
VERSION:2.0
PRODID:-//Squarespace Inc/Squarespace 6//v6//EN
BEGIN:VEVENT
UID:5975d97120099e96a39ebff7@squarespace.com
DTSTAMP:20180129T025102Z
DTSTART:20180624T060000Z
DTEND:20180630T040000Z
SUMMARY:Bali Yoga Retreat
GEO:-8.50604;115.260462
LOCATION:Dragonfly Village\, Jalan Raya Ubud\, Bali\, Indonesia
END:VEVENT
END:VCALENDAR
