BEGIN:VCALENDAR
VERSION:2.0
PRODID:-//Squarespace Inc/Squarespace 6//v6//EN
BEGIN:VEVENT
UID:5b271b6b8a922d271074f0cd@squarespace.com
DTSTAMP:20180719T102012Z
DTSTART:20180716T091500Z
DTEND:20180716T104500Z
SUMMARY:Introductory Yoga - 5 Week Course with Peta
END:VEVENT
END:VCALENDAR
