BEGIN:VCALENDAR
VERSION:2.0
PRODID:-//Squarespace Inc/Squarespace 6//v6//EN
BEGIN:VEVENT
UID:5b6a58c388251b72933132b8@squarespace.com
DTSTAMP:20181024T061302Z
DTSTART:20180820T091500Z
DTEND:20180820T104500Z
SUMMARY:Introductory Yoga - 5 Week Course with Peta
END:VEVENT
END:VCALENDAR
