BEGIN:VCALENDAR
VERSION:2.0
PRODID:-//Squarespace Inc/Squarespace 6//v6//EN
BEGIN:VEVENT
UID:5b9ef03e562fa7fce8aeb648@squarespace.com
DTSTAMP:20190102T230555Z
DTSTART:20181112T081500Z
DTEND:20181112T094500Z
SUMMARY:Introductory Yoga - 5 Week Course with Carolyn
END:VEVENT
END:VCALENDAR
