BEGIN:VCALENDAR
VERSION:2.0
PRODID:-//Squarespace Inc/Squarespace 6//v6//EN
BEGIN:VEVENT
UID:5b8d02f088251b17eb378a79@squarespace.com
DTSTAMP:20190122T060219Z
DTSTART:20181012T223000Z
DTEND:20181013T050000Z
SUMMARY:Understanding Prana through Asana and Pranayama with Paul Wooden
END:VEVENT
END:VCALENDAR
