BEGIN:VCALENDAR
VERSION:2.0
PRODID:-//Squarespace Inc/Squarespace 6//v6//EN
BEGIN:VEVENT
UID:5b9f093c898583afcc0c9eae@squarespace.com
DTSTAMP:20190122T080609Z
DTSTART:20181027T020000Z
DTEND:20181027T033000Z
SUMMARY:Everyday Mindfulness
END:VEVENT
END:VCALENDAR
