BEGIN:VCALENDAR
VERSION:2.0
PRODID:-//Squarespace Inc/Squarespace 6//v6//EN
BEGIN:VEVENT
UID:5b42e9f12b6a28b390cf4366@squarespace.com
DTSTAMP:20181219T101527Z
DTSTART:20181109T050000Z
DTEND:20181111T040000Z
SUMMARY:Hepburn Springs Weekend Yoga Retreat
GEO:-37.306994;144.142303
LOCATION:Continental House\, 9 Lone Pine Avenue\, Hepburn Springs\, VIC\, 3
 461\, Australia
END:VEVENT
END:VCALENDAR
