BEGIN:VCALENDAR
VERSION:2.0
PRODID:-//Squarespace Inc/Squarespace 6//v6//EN
BEGIN:VEVENT
UID:5a4e104724a6946c4c415bd1@squarespace.com
DTSTAMP:20191202T103548Z
DTSTART:20181123T223000Z
DTEND:20181124T013000Z
SUMMARY:Adrenal Healing Workshop
GEO:-36.762141;144.280761
LOCATION:YogaHara\, 1A King Street\, Bendigo
END:VEVENT
END:VCALENDAR
