BEGIN:VCALENDAR
VERSION:2.0
PRODID:-//Squarespace Inc/Squarespace 6//v6//EN
BEGIN:VEVENT
UID:5b8611dc6d2a7347b4537d4d@squarespace.com
DTSTAMP:20190408T023239Z
DTSTART:20181103T020000Z
DTEND:20181103T033000Z
SUMMARY:Sound Bath with Peta Minter
GEO:-36.762141;144.280761
LOCATION:YogaHara\, 1A King Street\, Bendigo\, Australia
END:VEVENT
END:VCALENDAR
