BEGIN:VCALENDAR
VERSION:2.0
PRODID:-//Squarespace Inc/Squarespace 6//v6//EN
BEGIN:VEVENT
UID:5b9f0a374ae237d166c170a2@squarespace.com
DTSTAMP:20190122T081802Z
DTSTART:20181107T081500Z
DTEND:20181212T090000Z
SUMMARY:Weekly Mindfulness Meditations
END:VEVENT
END:VCALENDAR
