BEGIN:VCALENDAR
VERSION:2.0
PRODID:-//Squarespace Inc/Squarespace 6//v6//EN
BEGIN:VEVENT
UID:5a305025ec212d36d4f0e8f4@squarespace.com
DTSTAMP:20180904T065853Z
DTSTART:20180915T030000Z
DTEND:20180915T050000Z
SUMMARY:YogaHara Yoga Massage Workshop
GEO:-36.762141;144.280761
LOCATION:YogaHara\, 1A King Street\, Bendigo\, VIC\, 3550\, Australia
END:VEVENT
END:VCALENDAR
