BEGIN:VCALENDAR
VERSION:2.0
PRODID:-//Squarespace Inc/Squarespace 6//v6//EN
BEGIN:VEVENT
UID:5a82b092c830259134d8058d@squarespace.com
DTSTAMP:20180214T215427Z
DTSTART:20180302T064500Z
DTEND:20180302T081500Z
SUMMARY:Self-care: A practice in stillness with Maxine Hawker
END:VEVENT
END:VCALENDAR
