BEGIN:VCALENDAR
VERSION:2.0
PRODID:-//Squarespace Inc/Squarespace 6//v6//EN
BEGIN:VEVENT
UID:5ad3f19a8a922d44a47adc18@squarespace.com
DTSTAMP:20180416T035955Z
DTSTART:20180512T003000Z
DTEND:20180512T063000Z
SUMMARY:Sacred Sound Immersion with Anahata Giri
END:VEVENT
END:VCALENDAR
