BEGIN:VCALENDAR
VERSION:2.0
PRODID:-//Squarespace Inc/Squarespace 6//v6//EN
BEGIN:VEVENT
UID:5ad580708a922db75ff96b91@squarespace.com
DTSTAMP:20190129T060124Z
DTSTART:20190208T220000Z
DTEND:20190209T050000Z
SUMMARY:Functional Anatomy for Yoga Teachers
GEO:-36.762141;144.280761
LOCATION:YogaHara\, 1A King Street\, Bendigo\, Australia
END:VEVENT
END:VCALENDAR
