BEGIN:VCALENDAR
VERSION:2.0
PRODID:-//Squarespace Inc/Squarespace 6//v6//EN
BEGIN:VEVENT
UID:5a4e14c50852294d69efe4f6@squarespace.com
DTSTAMP:20180409T074754Z
DTSTART:20180427T060000Z
DTEND:20180429T050000Z
SUMMARY:Hepburn Springs Weekend Yoga Retreat
GEO:-37.306994;144.142303
LOCATION:Continental House\, 9 Lone Pine Avenue\, Hepburn Springs\, VIC\, 3
 461\, Australia
END:VEVENT
END:VCALENDAR
