BEGIN:VCALENDAR
VERSION:2.0
PRODID:-//Squarespace Inc/Squarespace 6//v6//EN
BEGIN:VEVENT
UID:5aa216a5c830253c38e18346@squarespace.com
DTSTAMP:20180511T224152Z
DTSTART:20180819T020000Z
DTEND:20180819T050000Z
SUMMARY:Adrenal Healing Workshop - Swan Hill
GEO:-36.762141;144.280761
LOCATION:YogaHara\, 1A King Street\, Bendigo
END:VEVENT
END:VCALENDAR
